BEGIN:VCALENDAR
VERSION:2.0
PRODID:-//Sapelo NERR - ECPv6.15.20//NONSGML v1.0//EN
CALSCALE:GREGORIAN
METHOD:PUBLISH
X-ORIGINAL-URL:https://sapelonerr.org
X-WR-CALDESC:Events for Sapelo NERR
REFRESH-INTERVAL;VALUE=DURATION:PT1H
X-Robots-Tag:noindex
X-PUBLISHED-TTL:PT1H
BEGIN:VTIMEZONE
TZID:America/New_York
BEGIN:DAYLIGHT
TZOFFSETFROM:-0500
TZOFFSETTO:-0400
TZNAME:EDT
DTSTART:20240310T070000
END:DAYLIGHT
BEGIN:STANDARD
TZOFFSETFROM:-0400
TZOFFSETTO:-0500
TZNAME:EST
DTSTART:20241103T060000
END:STANDARD
BEGIN:DAYLIGHT
TZOFFSETFROM:-0500
TZOFFSETTO:-0400
TZNAME:EDT
DTSTART:20250309T070000
END:DAYLIGHT
BEGIN:STANDARD
TZOFFSETFROM:-0400
TZOFFSETTO:-0500
TZNAME:EST
DTSTART:20251102T060000
END:STANDARD
BEGIN:DAYLIGHT
TZOFFSETFROM:-0500
TZOFFSETTO:-0400
TZNAME:EDT
DTSTART:20260308T070000
END:DAYLIGHT
BEGIN:STANDARD
TZOFFSETFROM:-0400
TZOFFSETTO:-0500
TZNAME:EST
DTSTART:20261101T060000
END:STANDARD
END:VTIMEZONE
BEGIN:VEVENT
DTSTART;TZID=America/New_York:20250704T080000
DTEND;TZID=America/New_York:20250704T170000
DTSTAMP:20260420T100900
CREATED:20250630T180449Z
LAST-MODIFIED:20250820T204608Z
UID:1028-1751616000-1751648400@sapelonerr.org
SUMMARY:Let's Talk Pigs
DESCRIPTION:This is a place holder for upcoming CTP Events
URL:https://sapelonerr.org/snerrevent/lets-talk-pigs/
LOCATION:Sapelo Island Visitor Center\, 1766 Landing Roas\, SE\, Darien\, GA\, 31305\, United States
CATEGORIES:Training
ATTACH;FMTTYPE=image/jpeg:https://sapelonerr.org/wp-content/uploads/2025/06/Katie-Underwood-Ferry-to-Sapelo.jpg
ORGANIZER;CN="Sapelo NERR":MAILTO:info@sapelonerr.org
END:VEVENT
END:VCALENDAR